BEGIN:VCALENDAR
VERSION:2.0
PRODID:-//eventon.com NONSGML v1.0//EN
CALSCALE:GREGORIAN
METHOD:PUBLISH
BEGIN:VEVENT
UID:69e73b2db16b2
DTSTAMP:20260421T085405Z
DTSTART:20251126
DTEND:20251127
LOCATION:
SUMMARY:Samlas i stillhet\,  volontärträff i Stockholm kl. 16:30-19:30
DESCRIPTION:Samlas i stillhet på volontärträff Stockholm. Träffen inneh
 åller &#8211; Gemensam stillhetsövning &#8211; Incheckning &#8211; Samska
 pa talpinnar &#8211; Te/kaffe &#8211; Reflekterande samtal &#8211; Utcheckn
 ing Med Anna Lundstedt\,  utbildningsledare Drömmen om det goda.\nhttps://
 drommenomdetgoda.se/utbildningar/https-event-drommenomdetgoda-se-f-samlasis
 tillhet-volontartraff-26-november-2025/
URL:https://drommenomdetgoda.se/utbildningar/https-event-drommenomdetgoda-se-f-samlasistillhet-volontartraff-26-november-2025/
END:VEVENT
END:VCALENDAR